BEGIN:VCALENDAR
VERSION:2.0
PRODID:-//Christian Liberty Academy - ECPv6.15.16//NONSGML v1.0//EN
CALSCALE:GREGORIAN
METHOD:PUBLISH
X-WR-CALNAME:Christian Liberty Academy
X-ORIGINAL-URL:https://cla.reformation.edu
X-WR-CALDESC:Events for Christian Liberty Academy
REFRESH-INTERVAL;VALUE=DURATION:PT1H
X-Robots-Tag:noindex
X-PUBLISHED-TTL:PT1H
BEGIN:VTIMEZONE
TZID:America/Paramaribo
BEGIN:STANDARD
TZOFFSETFROM:-0300
TZOFFSETTO:-0300
TZNAME:-03
DTSTART:20240101T000000
END:STANDARD
END:VTIMEZONE
BEGIN:VEVENT
DTSTART;VALUE=DATE:20251009
DTEND;VALUE=DATE:20251010
DTSTAMP:20260419T210607
CREATED:20250604T123328Z
LAST-MODIFIED:20250604T123328Z
UID:10000439-1759968000-1760054399@cla.reformation.edu
SUMMARY:2025/26 End of First Quarter
DESCRIPTION:Last day of the first quarter.
URL:https://cla.reformation.edu/event/2025-26-end-of-first-quarter/
LOCATION:CLA\, Kasabaholoweg 8\, Paramaribo\, Suriname
CATEGORIES:Notification
GEO:5.8229243;-55.2133803
X-APPLE-STRUCTURED-LOCATION;VALUE=URI;X-ADDRESS=CLA Kasabaholoweg 8 Paramaribo Suriname;X-APPLE-RADIUS=500;X-TITLE=Kasabaholoweg 8:geo:-55.2133803,5.8229243
END:VEVENT
BEGIN:VEVENT
DTSTART;VALUE=DATE:20251010
DTEND;VALUE=DATE:20251011
DTSTAMP:20260419T210607
CREATED:20250604T123511Z
LAST-MODIFIED:20250604T123511Z
UID:10000440-1760054400-1760140799@cla.reformation.edu
SUMMARY:2025/26 Dag der Marrons
DESCRIPTION:No school Friday (10th). National Holiday (Dag der Marrons).
URL:https://cla.reformation.edu/event/2025-26-dag-der-marrons/
LOCATION:CLA\, Kasabaholoweg 8\, Paramaribo\, Suriname
CATEGORIES:Holiday
GEO:5.8229243;-55.2133803
X-APPLE-STRUCTURED-LOCATION;VALUE=URI;X-ADDRESS=CLA Kasabaholoweg 8 Paramaribo Suriname;X-APPLE-RADIUS=500;X-TITLE=Kasabaholoweg 8:geo:-55.2133803,5.8229243
END:VEVENT
BEGIN:VEVENT
DTSTART;VALUE=DATE:20251017
DTEND;VALUE=DATE:20251018
DTSTAMP:20260419T210607
CREATED:20250604T123643Z
LAST-MODIFIED:20250604T123643Z
UID:10000441-1760659200-1760745599@cla.reformation.edu
SUMMARY:2025/26 First Quarter Report Cards
DESCRIPTION:First Quarter Report cards posted online.
URL:https://cla.reformation.edu/event/2025-26-first-quarter-report-cards/
LOCATION:CLA\, Kasabaholoweg 8\, Paramaribo\, Suriname
CATEGORIES:Notification
GEO:5.8229243;-55.2133803
X-APPLE-STRUCTURED-LOCATION;VALUE=URI;X-ADDRESS=CLA Kasabaholoweg 8 Paramaribo Suriname;X-APPLE-RADIUS=500;X-TITLE=Kasabaholoweg 8:geo:-55.2133803,5.8229243
END:VEVENT
BEGIN:VEVENT
DTSTART;VALUE=DATE:20251021
DTEND;VALUE=DATE:20251022
DTSTAMP:20260419T210607
CREATED:20250604T123809Z
LAST-MODIFIED:20250604T123809Z
UID:10000442-1761004800-1761091199@cla.reformation.edu
SUMMARY:2025/26 Diwali
DESCRIPTION:No School Tuesday (21st). National Holiday (Diwali).
URL:https://cla.reformation.edu/event/2025-26-diwali/
LOCATION:CLA\, Kasabaholoweg 8\, Paramaribo\, Suriname
CATEGORIES:Holiday
GEO:5.8229243;-55.2133803
X-APPLE-STRUCTURED-LOCATION;VALUE=URI;X-ADDRESS=CLA Kasabaholoweg 8 Paramaribo Suriname;X-APPLE-RADIUS=500;X-TITLE=Kasabaholoweg 8:geo:-55.2133803,5.8229243
END:VEVENT
END:VCALENDAR