BEGIN:VCALENDAR
VERSION:2.0
PRODID:-//Christian Liberty Academy - ECPv6.15.16//NONSGML v1.0//EN
CALSCALE:GREGORIAN
METHOD:PUBLISH
X-ORIGINAL-URL:https://cla.reformation.edu
X-WR-CALDESC:Events for Christian Liberty Academy
REFRESH-INTERVAL;VALUE=DURATION:PT1H
X-Robots-Tag:noindex
X-PUBLISHED-TTL:PT1H
BEGIN:VTIMEZONE
TZID:America/Paramaribo
BEGIN:STANDARD
TZOFFSETFROM:-0300
TZOFFSETTO:-0300
TZNAME:-03
DTSTART:20240101T000000
END:STANDARD
END:VTIMEZONE
BEGIN:VEVENT
DTSTART;VALUE=DATE:20250523
DTEND;VALUE=DATE:20250811
DTSTAMP:20260419T162602
CREATED:20241213T165516Z
LAST-MODIFIED:20241213T165516Z
UID:10000435-1747958400-1754870399@cla.reformation.edu
SUMMARY:2024/25 Summer Vacation
DESCRIPTION:Summer Vacation
URL:https://cla.reformation.edu/event/2024-25-summer-vacation/
LOCATION:CLA\, Kasabaholoweg 8\, Paramaribo\, Suriname
CATEGORIES:Vacation
GEO:5.8229243;-55.2133803
X-APPLE-STRUCTURED-LOCATION;VALUE=URI;X-ADDRESS=CLA Kasabaholoweg 8 Paramaribo Suriname;X-APPLE-RADIUS=500;X-TITLE=Kasabaholoweg 8:geo:-55.2133803,5.8229243
END:VEVENT
BEGIN:VEVENT
DTSTART;TZID=America/Paramaribo:20250804T090000
DTEND;TZID=America/Paramaribo:20250804T120000
DTSTAMP:20260419T162602
CREATED:20250604T125831Z
LAST-MODIFIED:20250606T174155Z
UID:10000437-1754298000-1754308800@cla.reformation.edu
SUMMARY:2025/26 Office Reopens
DESCRIPTION:The Office is open for registrations and admissions. Aug. 4 – 7 from 9:00 AM to 12:00 PM.
URL:https://cla.reformation.edu/event/2025-26-office-reopens/2025-08-04/
LOCATION:CLA\, Kasabaholoweg 8\, Paramaribo\, Suriname
CATEGORIES:Notification
GEO:5.8229243;-55.2133803
X-APPLE-STRUCTURED-LOCATION;VALUE=URI;X-ADDRESS=CLA Kasabaholoweg 8 Paramaribo Suriname;X-APPLE-RADIUS=500;X-TITLE=Kasabaholoweg 8:geo:-55.2133803,5.8229243
END:VEVENT
BEGIN:VEVENT
DTSTART;TZID=America/Paramaribo:20250805T090000
DTEND;TZID=America/Paramaribo:20250805T120000
DTSTAMP:20260419T162602
CREATED:20250604T125831Z
LAST-MODIFIED:20250606T174155Z
UID:10000449-1754384400-1754395200@cla.reformation.edu
SUMMARY:2025/26 Office Reopens
DESCRIPTION:The Office is open for registrations and admissions. Aug. 4 – 7 from 9:00 AM to 12:00 PM.
URL:https://cla.reformation.edu/event/2025-26-office-reopens/2025-08-05/
LOCATION:CLA\, Kasabaholoweg 8\, Paramaribo\, Suriname
CATEGORIES:Notification
GEO:5.8229243;-55.2133803
X-APPLE-STRUCTURED-LOCATION;VALUE=URI;X-ADDRESS=CLA Kasabaholoweg 8 Paramaribo Suriname;X-APPLE-RADIUS=500;X-TITLE=Kasabaholoweg 8:geo:-55.2133803,5.8229243
END:VEVENT
BEGIN:VEVENT
DTSTART;TZID=America/Paramaribo:20250806T090000
DTEND;TZID=America/Paramaribo:20250806T120000
DTSTAMP:20260419T162602
CREATED:20250604T125831Z
LAST-MODIFIED:20250606T174155Z
UID:10000450-1754470800-1754481600@cla.reformation.edu
SUMMARY:2025/26 Office Reopens
DESCRIPTION:The Office is open for registrations and admissions. Aug. 4 – 7 from 9:00 AM to 12:00 PM.
URL:https://cla.reformation.edu/event/2025-26-office-reopens/2025-08-06/
LOCATION:CLA\, Kasabaholoweg 8\, Paramaribo\, Suriname
CATEGORIES:Notification
GEO:5.8229243;-55.2133803
X-APPLE-STRUCTURED-LOCATION;VALUE=URI;X-ADDRESS=CLA Kasabaholoweg 8 Paramaribo Suriname;X-APPLE-RADIUS=500;X-TITLE=Kasabaholoweg 8:geo:-55.2133803,5.8229243
END:VEVENT
BEGIN:VEVENT
DTSTART;TZID=America/Paramaribo:20250807T090000
DTEND;TZID=America/Paramaribo:20250807T120000
DTSTAMP:20260419T162602
CREATED:20250604T125831Z
LAST-MODIFIED:20250606T174155Z
UID:10000451-1754557200-1754568000@cla.reformation.edu
SUMMARY:2025/26 Office Reopens
DESCRIPTION:The Office is open for registrations and admissions. Aug. 4 – 7 from 9:00 AM to 12:00 PM.
URL:https://cla.reformation.edu/event/2025-26-office-reopens/2025-08-07/
LOCATION:CLA\, Kasabaholoweg 8\, Paramaribo\, Suriname
CATEGORIES:Notification
GEO:5.8229243;-55.2133803
X-APPLE-STRUCTURED-LOCATION;VALUE=URI;X-ADDRESS=CLA Kasabaholoweg 8 Paramaribo Suriname;X-APPLE-RADIUS=500;X-TITLE=Kasabaholoweg 8:geo:-55.2133803,5.8229243
END:VEVENT
BEGIN:VEVENT
DTSTART;TZID=America/Paramaribo:20250811T080000
DTEND;TZID=America/Paramaribo:20250811T133000
DTSTAMP:20260419T162602
CREATED:20250603T153805Z
LAST-MODIFIED:20250603T153805Z
UID:10000436-1754899200-1754919000@cla.reformation.edu
SUMMARY:2025/26 First Day of School
DESCRIPTION:Monday\, August 11\, School opens\, and classes begin.
URL:https://cla.reformation.edu/event/2025-26-first-day-of-school/
LOCATION:CLA\, Kasabaholoweg 8\, Paramaribo\, Suriname
CATEGORIES:Notification
GEO:5.8229243;-55.2133803
X-APPLE-STRUCTURED-LOCATION;VALUE=URI;X-ADDRESS=CLA Kasabaholoweg 8 Paramaribo Suriname;X-APPLE-RADIUS=500;X-TITLE=Kasabaholoweg 8:geo:-55.2133803,5.8229243
END:VEVENT
END:VCALENDAR