BEGIN:VCALENDAR
VERSION:2.0
PRODID:-//Christian Liberty Academy - ECPv6.15.16//NONSGML v1.0//EN
CALSCALE:GREGORIAN
METHOD:PUBLISH
X-ORIGINAL-URL:https://cla.reformation.edu
X-WR-CALDESC:Events for Christian Liberty Academy
REFRESH-INTERVAL;VALUE=DURATION:PT1H
X-Robots-Tag:noindex
X-PUBLISHED-TTL:PT1H
BEGIN:VTIMEZONE
TZID:America/Paramaribo
BEGIN:STANDARD
TZOFFSETFROM:-0300
TZOFFSETTO:-0300
TZNAME:-03
DTSTART:20240101T000000
END:STANDARD
END:VTIMEZONE
BEGIN:VEVENT
DTSTART;VALUE=DATE:20250414
DTEND;VALUE=DATE:20250422
DTSTAMP:20260419T205118
CREATED:20241213T161358Z
LAST-MODIFIED:20241213T161358Z
UID:10000424-1744588800-1745279999@cla.reformation.edu
SUMMARY:2024/25 Easter Vacation
DESCRIPTION:No School.  Easter vacation
URL:https://cla.reformation.edu/event/2024-25-easter-vacation/
LOCATION:CLA\, Kasabaholoweg 8\, Paramaribo\, Suriname
CATEGORIES:Vacation
GEO:5.8229243;-55.2133803
X-APPLE-STRUCTURED-LOCATION;VALUE=URI;X-ADDRESS=CLA Kasabaholoweg 8 Paramaribo Suriname;X-APPLE-RADIUS=500;X-TITLE=Kasabaholoweg 8:geo:-55.2133803,5.8229243
END:VEVENT
END:VCALENDAR