BEGIN:VCALENDAR
VERSION:2.0
PRODID:-//Christian Liberty Academy - ECPv6.15.16//NONSGML v1.0//EN
CALSCALE:GREGORIAN
METHOD:PUBLISH
X-WR-CALNAME:Christian Liberty Academy
X-ORIGINAL-URL:https://cla.reformation.edu
X-WR-CALDESC:Events for Christian Liberty Academy
REFRESH-INTERVAL;VALUE=DURATION:PT1H
X-Robots-Tag:noindex
X-PUBLISHED-TTL:PT1H
BEGIN:VTIMEZONE
TZID:America/Paramaribo
BEGIN:STANDARD
TZOFFSETFROM:-0300
TZOFFSETTO:-0300
TZNAME:-03
DTSTART:20250101T000000
END:STANDARD
END:VTIMEZONE
BEGIN:VEVENT
DTSTART;VALUE=DATE:20260522
DTEND;VALUE=DATE:20260808
DTSTAMP:20260420T021135
CREATED:20260104T010547Z
LAST-MODIFIED:20260104T010547Z
UID:10000853-1779408000-1786147199@cla.reformation.edu
SUMMARY:2026 Summer Vacation
DESCRIPTION:2026 Summer Vacation ( No school )
URL:https://cla.reformation.edu/event/2026-summer-vacation/
LOCATION:CLA\, Kasabaholoweg 8\, Paramaribo\, Suriname
CATEGORIES:Vacation
GEO:5.8229243;-55.2133803
X-APPLE-STRUCTURED-LOCATION;VALUE=URI;X-ADDRESS=CLA Kasabaholoweg 8 Paramaribo Suriname;X-APPLE-RADIUS=500;X-TITLE=Kasabaholoweg 8:geo:-55.2133803,5.8229243
END:VEVENT
BEGIN:VEVENT
DTSTART;TZID=America/Paramaribo:20260525T080000
DTEND;TZID=America/Paramaribo:20260525T103000
DTSTAMP:20260420T021135
CREATED:20260104T005734Z
LAST-MODIFIED:20260104T005734Z
UID:10000833-1779696000-1779705000@cla.reformation.edu
SUMMARY:2026 Vacation School
DESCRIPTION:Vacation school: Monday\, May 25\, 2026\, through Friday\, June 19\, 2026 from 8:00 A.M. to 10:30 A.M.
URL:https://cla.reformation.edu/event/2026-vacation-school/2026-05-25/
LOCATION:CLA\, Kasabaholoweg 8\, Paramaribo\, Suriname
CATEGORIES:Notification
GEO:5.8229243;-55.2133803
X-APPLE-STRUCTURED-LOCATION;VALUE=URI;X-ADDRESS=CLA Kasabaholoweg 8 Paramaribo Suriname;X-APPLE-RADIUS=500;X-TITLE=Kasabaholoweg 8:geo:-55.2133803,5.8229243
END:VEVENT
END:VCALENDAR